BEGIN:VCALENDAR
VERSION:2.0
PRODID:-//FSV Weiler zum Stein e.V. - ECPv6.15.18//NONSGML v1.0//EN
CALSCALE:GREGORIAN
METHOD:PUBLISH
X-ORIGINAL-URL:https://www.fsv-weilerzumstein.de
X-WR-CALDESC:Veranstaltungen für FSV Weiler zum Stein e.V.
REFRESH-INTERVAL;VALUE=DURATION:PT1H
X-Robots-Tag:noindex
X-PUBLISHED-TTL:PT1H
BEGIN:VTIMEZONE
TZID:Europe/Berlin
BEGIN:DAYLIGHT
TZOFFSETFROM:+0100
TZOFFSETTO:+0200
TZNAME:CEST
DTSTART:20240331T010000
END:DAYLIGHT
BEGIN:STANDARD
TZOFFSETFROM:+0200
TZOFFSETTO:+0100
TZNAME:CET
DTSTART:20241027T010000
END:STANDARD
BEGIN:DAYLIGHT
TZOFFSETFROM:+0100
TZOFFSETTO:+0200
TZNAME:CEST
DTSTART:20250330T010000
END:DAYLIGHT
BEGIN:STANDARD
TZOFFSETFROM:+0200
TZOFFSETTO:+0100
TZNAME:CET
DTSTART:20251026T010000
END:STANDARD
BEGIN:DAYLIGHT
TZOFFSETFROM:+0100
TZOFFSETTO:+0200
TZNAME:CEST
DTSTART:20260329T010000
END:DAYLIGHT
BEGIN:STANDARD
TZOFFSETFROM:+0200
TZOFFSETTO:+0100
TZNAME:CET
DTSTART:20261025T010000
END:STANDARD
END:VTIMEZONE
BEGIN:VEVENT
DTSTART;TZID=Europe/Berlin:20250328T190000
DTEND;TZID=Europe/Berlin:20250328T210000
DTSTAMP:20260424T104400
CREATED:20250325T143741Z
LAST-MODIFIED:20250325T143929Z
UID:5009-1743188400-1743195600@www.fsv-weilerzumstein.de
SUMMARY:FSV Weiler zum Stein Hauptversammlung
DESCRIPTION:Liebe Mitglieder des FSV Weiler zum Stein\, \n\n\n\nzur diesjährigen Hauptversammlung am Freitag\, 28.03.2025\, 19:00 Uhr laden wir Euch herzlich in unser Vereinsheim „Arcobaleno“ ein. \n\n\n\nTagesordnung \n\n\n\n\n Begrüßung\n\n\n\nBerichte des Vorstandes\n\n\n\nBerichte der Abteilungen\n\n\n\nKassenbericht\n\n\n\nBericht der Kassenprüfer\n\n\n\nAussprache zu den Berichten\n\n\n\nEntlastung\n\n\n\nNeuwahlen\n\n\n\nAnträge\n\n\n\nEhrungen & Jubilare\n\n\n\nVerschiedenes\n\n\n\n\nAnträge zur Hauptversammlung müssen schriftlich bis zum 21.03.2025 bei der Geschäftsstelle unter der postalischen Anschrift \n\n\n\nFSV Weiler zum Stein e. V.– Geschäftsstelle –Brühlstraße 1171397 Leutenbach \n\n\n\neingegangen sein. Wir freuen uns auf Euer zahlreiches Erscheinen!Blau-weiße Grüße\, Die Vorstandschaft
URL:https://www.fsv-weilerzumstein.de/event/fsv-weiler-zum-stein-hauptversammlung
LOCATION:FSV Vereinsheim\, Brühlstraße 11\, Leutenbach\, 71397
ATTACH;FMTTYPE=image/jpeg:https://www.fsv-weilerzumstein.de/wp-content/uploads/2024/02/news_default-edited.jpg
ORGANIZER;CN="FSV Weiler zum Stein":MAILTO:info@fsv-weilerzumstein.de
END:VEVENT
END:VCALENDAR