BEGIN:VCALENDAR
VERSION:2.0
PRODID:-//FSV Weiler zum Stein e.V. - ECPv6.15.18//NONSGML v1.0//EN
CALSCALE:GREGORIAN
METHOD:PUBLISH
X-WR-CALNAME:FSV Weiler zum Stein e.V.
X-ORIGINAL-URL:https://www.fsv-weilerzumstein.de
X-WR-CALDESC:Veranstaltungen für FSV Weiler zum Stein e.V.
REFRESH-INTERVAL;VALUE=DURATION:PT1H
X-Robots-Tag:noindex
X-PUBLISHED-TTL:PT1H
BEGIN:VTIMEZONE
TZID:Europe/Berlin
BEGIN:DAYLIGHT
TZOFFSETFROM:+0100
TZOFFSETTO:+0200
TZNAME:CEST
DTSTART:20230326T010000
END:DAYLIGHT
BEGIN:STANDARD
TZOFFSETFROM:+0200
TZOFFSETTO:+0100
TZNAME:CET
DTSTART:20231029T010000
END:STANDARD
BEGIN:DAYLIGHT
TZOFFSETFROM:+0100
TZOFFSETTO:+0200
TZNAME:CEST
DTSTART:20240331T010000
END:DAYLIGHT
BEGIN:STANDARD
TZOFFSETFROM:+0200
TZOFFSETTO:+0100
TZNAME:CET
DTSTART:20241027T010000
END:STANDARD
BEGIN:DAYLIGHT
TZOFFSETFROM:+0100
TZOFFSETTO:+0200
TZNAME:CEST
DTSTART:20250330T010000
END:DAYLIGHT
BEGIN:STANDARD
TZOFFSETFROM:+0200
TZOFFSETTO:+0100
TZNAME:CET
DTSTART:20251026T010000
END:STANDARD
END:VTIMEZONE
BEGIN:VEVENT
DTSTART;TZID=Europe/Berlin:20241123T200000
DTEND;TZID=Europe/Berlin:20241123T235900
DTSTAMP:20260424T174137
CREATED:20241102T070031Z
LAST-MODIFIED:20241102T070226Z
UID:4774-1732392000-1732406340@www.fsv-weilerzumstein.de
SUMMARY:Après Ski Party | Vol. 6
DESCRIPTION:Dieses Jahr veranstaltet der FSV Weiler zum Stein die 6. Après Ski Party. Wir freuen uns auf DJ Hefe und auf alle Gäste aus Weiler zum Stein und Umgebung. Der Vorverkauf startet ab dem 28.10.2024 im Vereinsheim Weiler zum Stein und bei AN.DY FASHION.LIFE.STYLE in Winnenden.
URL:https://www.fsv-weilerzumstein.de/event/apres-ski-party-vol-6
LOCATION:Gemeindehalle Weiler zum Stein\, Fröbelstraße 21\, Leutenbach\, 71397\, Deutschland
ATTACH;FMTTYPE=image/jpeg:https://www.fsv-weilerzumstein.de/wp-content/uploads/2024/11/fedfba00-65b6-4190-9e05-6303fb6f6b74.jpeg
ORGANIZER;CN="FSV Weiler zum Stein":MAILTO:info@fsv-weilerzumstein.de
END:VEVENT
END:VCALENDAR