BEGIN:VCALENDAR
VERSION:2.0
PRODID:-//FSV Weiler zum Stein e.V. - ECPv6.15.18//NONSGML v1.0//EN
CALSCALE:GREGORIAN
METHOD:PUBLISH
X-ORIGINAL-URL:https://www.fsv-weilerzumstein.de
X-WR-CALDESC:Veranstaltungen für FSV Weiler zum Stein e.V.
REFRESH-INTERVAL;VALUE=DURATION:PT1H
X-Robots-Tag:noindex
X-PUBLISHED-TTL:PT1H
BEGIN:VTIMEZONE
TZID:Europe/Berlin
BEGIN:DAYLIGHT
TZOFFSETFROM:+0100
TZOFFSETTO:+0200
TZNAME:CEST
DTSTART:20230326T010000
END:DAYLIGHT
BEGIN:STANDARD
TZOFFSETFROM:+0200
TZOFFSETTO:+0100
TZNAME:CET
DTSTART:20231029T010000
END:STANDARD
BEGIN:DAYLIGHT
TZOFFSETFROM:+0100
TZOFFSETTO:+0200
TZNAME:CEST
DTSTART:20240331T010000
END:DAYLIGHT
BEGIN:STANDARD
TZOFFSETFROM:+0200
TZOFFSETTO:+0100
TZNAME:CET
DTSTART:20241027T010000
END:STANDARD
BEGIN:DAYLIGHT
TZOFFSETFROM:+0100
TZOFFSETTO:+0200
TZNAME:CEST
DTSTART:20250330T010000
END:DAYLIGHT
BEGIN:STANDARD
TZOFFSETFROM:+0200
TZOFFSETTO:+0100
TZNAME:CET
DTSTART:20251026T010000
END:STANDARD
END:VTIMEZONE
BEGIN:VEVENT
DTSTART;TZID=Europe/Berlin:20240706T090000
DTEND;TZID=Europe/Berlin:20240707T170000
DTSTAMP:20260425T003637
CREATED:20240212T084111Z
LAST-MODIFIED:20240212T091042Z
UID:3971-1720256400-1720371600@www.fsv-weilerzumstein.de
SUMMARY:3. Junioren Buchenbachpokal
DESCRIPTION:Der FSV Weiler zum Stein freut sich sehr auf den 3. Junioren Buchenbachpokal. Das Turnier findet am 6.-7. Juli 2023 im Sportpark an der Brühlstraße auf unserem Rasen statt.
URL:https://www.fsv-weilerzumstein.de/event/3-junioren-buchenbachpokal
LOCATION:Sportpark Brühlstraße\, Brühlstraße 11\, Leutenbach\, 71397\, Deutschland
ATTACH;FMTTYPE=image/png:https://www.fsv-weilerzumstein.de/wp-content/uploads/2022/06/Hintergrund-e1707728891853.png
ORGANIZER;CN="FSV Weiler zum Stein":MAILTO:info@fsv-weilerzumstein.de
END:VEVENT
END:VCALENDAR