BEGIN:VCALENDAR
VERSION:2.0
PRODID:-//FSV Weiler zum Stein e.V. - ECPv6.15.18//NONSGML v1.0//EN
CALSCALE:GREGORIAN
METHOD:PUBLISH
X-WR-CALNAME:FSV Weiler zum Stein e.V.
X-ORIGINAL-URL:https://www.fsv-weilerzumstein.de
X-WR-CALDESC:Veranstaltungen für FSV Weiler zum Stein e.V.
REFRESH-INTERVAL;VALUE=DURATION:PT1H
X-Robots-Tag:noindex
X-PUBLISHED-TTL:PT1H
BEGIN:VTIMEZONE
TZID:Europe/Berlin
BEGIN:DAYLIGHT
TZOFFSETFROM:+0100
TZOFFSETTO:+0200
TZNAME:CEST
DTSTART:20230326T010000
END:DAYLIGHT
BEGIN:STANDARD
TZOFFSETFROM:+0200
TZOFFSETTO:+0100
TZNAME:CET
DTSTART:20231029T010000
END:STANDARD
BEGIN:DAYLIGHT
TZOFFSETFROM:+0100
TZOFFSETTO:+0200
TZNAME:CEST
DTSTART:20240331T010000
END:DAYLIGHT
BEGIN:STANDARD
TZOFFSETFROM:+0200
TZOFFSETTO:+0100
TZNAME:CET
DTSTART:20241027T010000
END:STANDARD
BEGIN:DAYLIGHT
TZOFFSETFROM:+0100
TZOFFSETTO:+0200
TZNAME:CEST
DTSTART:20250330T010000
END:DAYLIGHT
BEGIN:STANDARD
TZOFFSETFROM:+0200
TZOFFSETTO:+0100
TZNAME:CET
DTSTART:20251026T010000
END:STANDARD
END:VTIMEZONE
BEGIN:VEVENT
DTSTART;TZID=Europe/Berlin:20240601T190000
DTEND;TZID=Europe/Berlin:20240601T233000
DTSTAMP:20260425T020837
CREATED:20240523T074003Z
LAST-MODIFIED:20240523T074004Z
UID:4365-1717268400-1717284600@www.fsv-weilerzumstein.de
SUMMARY:Saisonabschluss FSV Weiler zum Stein
DESCRIPTION:Der FSV Weiler zum Stein verabschiedet sich mit einem großen Fest von der Fußballsaison 23/24! Am 01.06. ab 19 Uhr sind alle Abteilungen – von der Jugend über die Aktiven bis hin zu AH/Passiven – herzlich auf dem Sportplatz eingeladen\, um gemeinsam die Saison ausklingen zu lassen. Besonders möchten wir die Spieler der aktiven Mannschaften FSV Weiler zum Stein I und II feiern\, die an diesem Tag ihr letztes Saisonspiel bestreiten. \n\n\n\nLasst uns die große FSV-Familie leben und hoffen auf eine zahlreiche Teilnahme aus allen Altersklassen.
URL:https://www.fsv-weilerzumstein.de/event/saisonabschluss-fsv-weiler-zum-stein
LOCATION:Sportpark Brühlstraße\, Brühlstraße 11\, Leutenbach\, 71397\, Deutschland
ATTACH;FMTTYPE=image/jpeg:https://www.fsv-weilerzumstein.de/wp-content/uploads/2024/05/Saisonabschluss.jpg
ORGANIZER;CN="FSV Weiler zum Stein":MAILTO:info@fsv-weilerzumstein.de
END:VEVENT
END:VCALENDAR